BEGIN:VCALENDAR
VERSION:2.0
PRODID:-//Site de la commune de Sammarçolles - ECPv4.5.13//NONSGML v1.0//EN
CALSCALE:GREGORIAN
METHOD:PUBLISH
X-WR-CALNAME:Site de la commune de Sammarçolles
X-ORIGINAL-URL:https://www.mairie-sammarcolles.fr
X-WR-CALDESC:Events for Site de la commune de Sammarçolles
BEGIN:VEVENT
DTSTART;TZID=Europe/Paris:20260421T173000
DTEND;TZID=Europe/Paris:20260421T200000
DTSTAMP:20260420T175308
CREATED:20260420T083814Z
LAST-MODIFIED:20260420T083814Z
UID:5132-1776792600-1776801600@www.mairie-sammarcolles.fr
SUMMARY:MARCHÉ A LA FERME
DESCRIPTION: \n
URL:https://www.mairie-sammarcolles.fr/evenement/marche-a-la-ferme-3/
END:VEVENT
END:VCALENDAR